BEGIN:VCALENDAR
VERSION:2.0
PRODID:-//Sydney Nepalese fellowship church - SNF - ECPv6.15.12.2//NONSGML v1.0//EN
CALSCALE:GREGORIAN
METHOD:PUBLISH
X-WR-CALNAME:Sydney Nepalese fellowship church - SNF
X-ORIGINAL-URL:https://snfchurch.com
X-WR-CALDESC:Events for Sydney Nepalese fellowship church - SNF
REFRESH-INTERVAL;VALUE=DURATION:PT1H
X-Robots-Tag:noindex
X-PUBLISHED-TTL:PT1H
BEGIN:VTIMEZONE
TZID:Australia/Sydney
BEGIN:STANDARD
TZOFFSETFROM:+1100
TZOFFSETTO:+1000
TZNAME:AEST
DTSTART:20210403T160000
END:STANDARD
BEGIN:DAYLIGHT
TZOFFSETFROM:+1000
TZOFFSETTO:+1100
TZNAME:AEDT
DTSTART:20211002T160000
END:DAYLIGHT
BEGIN:STANDARD
TZOFFSETFROM:+1100
TZOFFSETTO:+1000
TZNAME:AEST
DTSTART:20220402T160000
END:STANDARD
BEGIN:DAYLIGHT
TZOFFSETFROM:+1000
TZOFFSETTO:+1100
TZNAME:AEDT
DTSTART:20221001T160000
END:DAYLIGHT
BEGIN:STANDARD
TZOFFSETFROM:+1100
TZOFFSETTO:+1000
TZNAME:AEST
DTSTART:20230401T160000
END:STANDARD
BEGIN:DAYLIGHT
TZOFFSETFROM:+1000
TZOFFSETTO:+1100
TZNAME:AEDT
DTSTART:20230930T160000
END:DAYLIGHT
END:VTIMEZONE
BEGIN:VEVENT
DTSTART;TZID=Australia/Sydney:20221227T200000
DTEND;TZID=Australia/Sydney:20221227T210000
DTSTAMP:20260424T070721
CREATED:20221202T141732Z
LAST-MODIFIED:20221202T142112Z
UID:1825-1672171200-1672174800@snfchurch.com
SUMMARY:SNF TUESDAY NIGHY WEEKLY HOME FELLOWSHIP
DESCRIPTION:PLEASE CONTACT US TO JOIN.
URL:https://snfchurch.com/event/snf-tuesday-nighy-weekly-home-fellowship-4/
LOCATION:PARRAMATTA AREA\, PARRAMATTA\, NSW\, 2150\, Australia
CATEGORIES:SNF TUESDAY HOME FELLOWSHIP
ATTACH;FMTTYPE=image/webp:https://snfchurch.com/wp-content/uploads/viber_image_2022-11-24_20-56-48-722.webp
END:VEVENT
BEGIN:VEVENT
DTSTART;TZID=Australia/Sydney:20221220T200000
DTEND;TZID=Australia/Sydney:20221220T210000
DTSTAMP:20260424T070721
CREATED:20221202T141741Z
LAST-MODIFIED:20221202T141945Z
UID:1826-1671566400-1671570000@snfchurch.com
SUMMARY:SNF TUESDAY NIGHY WEEKLY HOME FELLOWSHIP
DESCRIPTION:PLEASE CONTACT US TO JOIN.
URL:https://snfchurch.com/event/snf-tuesday-nighy-weekly-home-fellowship-3/
LOCATION:HURSTVILLE AREA\, HURSTVILLE\, NSW\, 2220\, Australia
CATEGORIES:SNF TUESDAY HOME FELLOWSHIP
ATTACH;FMTTYPE=image/webp:https://snfchurch.com/wp-content/uploads/viber_image_2022-11-24_20-56-48-722.webp
END:VEVENT
BEGIN:VEVENT
DTSTART;TZID=Australia/Sydney:20221213T200000
DTEND;TZID=Australia/Sydney:20221213T210000
DTSTAMP:20260424T070721
CREATED:20221202T141801Z
LAST-MODIFIED:20221202T141826Z
UID:1827-1670961600-1670965200@snfchurch.com
SUMMARY:SNF TUESDAY NIGHY WEEKLY HOME FELLOWSHIP
DESCRIPTION:PLEASE CONTACT US TO JOIN.
URL:https://snfchurch.com/event/snf-tuesday-nighy-weekly-home-fellowship-2/
LOCATION:STRATHFIELD AREA\, STRATHFIELD\, NSW\, 2135
CATEGORIES:SNF TUESDAY HOME FELLOWSHIP
ATTACH;FMTTYPE=image/webp:https://snfchurch.com/wp-content/uploads/viber_image_2022-11-24_20-56-48-722.webp
END:VEVENT
BEGIN:VEVENT
DTSTART;TZID=Australia/Sydney:20221206T200000
DTEND;TZID=Australia/Sydney:20221206T210000
DTSTAMP:20260424T070721
CREATED:20221202T141716Z
LAST-MODIFIED:20221202T141716Z
UID:1823-1670356800-1670360400@snfchurch.com
SUMMARY:SNF TUESDAY NIGHY WEEKLY HOME FELLOWSHIP
DESCRIPTION:PLEASE CONTACT US TO JOIN.
URL:https://snfchurch.com/event/snf-tuesday-nighy-weekly-home-fellowship/
LOCATION:STRATHFIELD AREA\, STRATHFIELD\, NSW\, 2135
CATEGORIES:SNF TUESDAY HOME FELLOWSHIP
ATTACH;FMTTYPE=image/webp:https://snfchurch.com/wp-content/uploads/viber_image_2022-11-24_20-56-48-722.webp
END:VEVENT
END:VCALENDAR