BEGIN:VCALENDAR
VERSION:2.0
PRODID:-//Sydney Nepalese fellowship church - SNF - ECPv6.15.12.2//NONSGML v1.0//EN
CALSCALE:GREGORIAN
METHOD:PUBLISH
X-ORIGINAL-URL:https://snfchurch.com
X-WR-CALDESC:Events for Sydney Nepalese fellowship church - SNF
REFRESH-INTERVAL;VALUE=DURATION:PT1H
X-Robots-Tag:noindex
X-PUBLISHED-TTL:PT1H
BEGIN:VTIMEZONE
TZID:Australia/Sydney
BEGIN:STANDARD
TZOFFSETFROM:+1100
TZOFFSETTO:+1000
TZNAME:AEST
DTSTART:20220402T160000
END:STANDARD
BEGIN:DAYLIGHT
TZOFFSETFROM:+1000
TZOFFSETTO:+1100
TZNAME:AEDT
DTSTART:20221001T160000
END:DAYLIGHT
BEGIN:STANDARD
TZOFFSETFROM:+1100
TZOFFSETTO:+1000
TZNAME:AEST
DTSTART:20230401T160000
END:STANDARD
BEGIN:DAYLIGHT
TZOFFSETFROM:+1000
TZOFFSETTO:+1100
TZNAME:AEDT
DTSTART:20230930T160000
END:DAYLIGHT
BEGIN:STANDARD
TZOFFSETFROM:+1100
TZOFFSETTO:+1000
TZNAME:AEST
DTSTART:20240406T160000
END:STANDARD
BEGIN:DAYLIGHT
TZOFFSETFROM:+1000
TZOFFSETTO:+1100
TZNAME:AEDT
DTSTART:20241005T160000
END:DAYLIGHT
END:VTIMEZONE
BEGIN:VEVENT
DTSTART;TZID=Australia/Sydney:20230101T110000
DTEND;TZID=Australia/Sydney:20230101T133000
DTSTAMP:20260424T084414
CREATED:20221202T133118Z
LAST-MODIFIED:20221202T134346Z
UID:1792-1672570800-1672579800@snfchurch.com
SUMMARY:LION OF JUDAH IM SUNDAY SERVICE
DESCRIPTION:LION OF JUDAH INTERNATIONAL MINISTRY SUNDAY SERVICE. PLEASE CONTACT US FOR THE ADDRESS.
URL:https://snfchurch.com/event/lion-of-judah-im-sunday-service-5/
LOCATION:SNF CHURCH UPPER ROOM\, 62 The Boulevarde\, Strathfield\, NSW\, 2135\, Australia
CATEGORIES:IM SUNDAY SERVICE
ATTACH;FMTTYPE=image/jpeg:https://snfchurch.com/wp-content/uploads/2018/10/image1.jpeg
END:VEVENT
END:VCALENDAR